Package: arrayQuality Version: 1.82.0 Command: /home/biocbuild/bbs-3.19-bioc/R/bin/R CMD check --install=check:arrayQuality.install-out.txt --library=/home/biocbuild/bbs-3.19-bioc/R/site-library --timings arrayQuality_1.82.0.tar.gz StartedAt: 2024-10-16 21:39:45 -0400 (Wed, 16 Oct 2024) EndedAt: 2024-10-16 21:40:19 -0400 (Wed, 16 Oct 2024) EllapsedTime: 34.1 seconds RetCode: 0 Status: WARNINGS CheckDir: arrayQuality.Rcheck Warnings: 1