Package: arrayQuality Version: 1.82.0 Command: /Library/Frameworks/R.framework/Resources/bin/R CMD INSTALL arrayQuality StartedAt: 2024-10-16 15:10:59 -0400 (Wed, 16 Oct 2024) EndedAt: 2024-10-16 15:11:30 -0400 (Wed, 16 Oct 2024) EllapsedTime: 30.8 seconds RetCode: 0 Status: OK