Package: arrayQuality Version: 1.82.0 Command: rm -rf arrayQuality.buildbin-libdir && mkdir arrayQuality.buildbin-libdir && /Users/biocbuild/BBS/utils/build-universal.sh arrayQuality_1.82.0.tar.gz /Library/Frameworks/R.framework/Resources/bin/R arrayQuality.buildbin-libdir StartedAt: 2024-10-17 15:38:26 -0400 (Thu, 17 Oct 2024) EndedAt: 2024-10-17 15:38:56 -0400 (Thu, 17 Oct 2024) EllapsedTime: 30.1 seconds RetCode: 0 Status: OK PackageFile: arrayQuality_1.82.0.tgz PackageFileSize: 12.17 MiB