Package: arrayQuality Version: 1.82.0 Command: /Library/Frameworks/R.framework/Resources/bin/R CMD check --install=check:arrayQuality.install-out.txt --library=/Library/Frameworks/R.framework/Resources/library --no-vignettes --timings arrayQuality_1.82.0.tar.gz StartedAt: 2024-06-09 18:46:16 -0400 (Sun, 09 Jun 2024) EndedAt: 2024-06-09 18:47:04 -0400 (Sun, 09 Jun 2024) EllapsedTime: 47.7 seconds RetCode: 0 Status: WARNINGS CheckDir: arrayQuality.Rcheck Warnings: 1