Package: arrayQuality Version: 1.82.0 Command: rm -rf arrayQuality.buildbin-libdir && mkdir arrayQuality.buildbin-libdir && /Users/biocbuild/BBS/utils/build-universal.sh arrayQuality_1.82.0.tar.gz /Library/Frameworks/R.framework/Resources/bin/R arrayQuality.buildbin-libdir StartedAt: 2024-06-10 00:06:48 -0400 (Mon, 10 Jun 2024) EndedAt: 2024-06-10 00:07:06 -0400 (Mon, 10 Jun 2024) EllapsedTime: 17.3 seconds RetCode: 0 Status: OK PackageFile: arrayQuality_1.82.0.tgz PackageFileSize: 12.17 MiB