Package: arrayQuality Version: 1.82.0 Command: /home/biocbuild/R/R-beta-2024-04-15_r86425/bin/R CMD check --install=check:arrayQuality.install-out.txt --library=/home/biocbuild/R/R-beta-2024-04-15_r86425/site-library --no-vignettes --timings arrayQuality_1.82.0.tar.gz StartedAt: 2024-05-09 04:47:34 -0000 (Thu, 09 May 2024) EndedAt: 2024-05-09 04:48:28 -0000 (Thu, 09 May 2024) EllapsedTime: 54.1 seconds RetCode: 0 Status: WARNINGS CheckDir: arrayQuality.Rcheck Warnings: 1