Package: arrayQuality Version: 1.82.0 Command: rm -rf arrayQuality.buildbin-libdir && mkdir arrayQuality.buildbin-libdir && /Users/biocbuild/BBS/utils/build-universal.sh arrayQuality_1.82.0.tar.gz /Library/Frameworks/R.framework/Resources/bin/R arrayQuality.buildbin-libdir StartedAt: 2024-10-18 17:18:43 -0400 (Fri, 18 Oct 2024) EndedAt: 2024-10-18 17:19:01 -0400 (Fri, 18 Oct 2024) EllapsedTime: 18.1 seconds RetCode: 0 Status: OK PackageFile: arrayQuality_1.82.0.tgz PackageFileSize: 12.17 MiB