Package: arrayMvout Version: 1.62.0 Command: rm -rf arrayMvout.buildbin-libdir && mkdir arrayMvout.buildbin-libdir && E:\biocbuild\bbs-3.19-bioc\R\bin\R.exe CMD INSTALL --build --library=arrayMvout.buildbin-libdir arrayMvout_1.62.0.tar.gz StartedAt: 2024-10-17 07:20:37 -0400 (Thu, 17 Oct 2024) EndedAt: 2024-10-17 07:21:35 -0400 (Thu, 17 Oct 2024) EllapsedTime: 57.1 seconds RetCode: 0 Status: OK PackageFile: arrayMvout_1.62.0.zip PackageFileSize: 751.3 KiB