Package: arrayMvout Version: 1.62.0 Command: /home/biocbuild/bbs-3.19-bioc/R/bin/R CMD build --keep-empty-dirs --no-resave-data arrayMvout StartedAt: 2024-10-16 16:55:58 -0400 (Wed, 16 Oct 2024) EndedAt: 2024-10-16 16:57:01 -0400 (Wed, 16 Oct 2024) EllapsedTime: 63.1 seconds RetCode: 0 Status: OK PackageFile: arrayMvout_1.62.0.tar.gz PackageFileSize: 582.4 KiB