Package: arrayMvout Version: 1.62.0 Command: /Library/Frameworks/R.framework/Resources/bin/R CMD INSTALL arrayMvout StartedAt: 2024-10-16 16:48:31 -0400 (Wed, 16 Oct 2024) EndedAt: 2024-10-16 16:50:18 -0400 (Wed, 16 Oct 2024) EllapsedTime: 107.4 seconds RetCode: 0 Status: OK