Package: arrayMvout Version: 1.62.0 Command: /Library/Frameworks/R.framework/Resources/bin/R CMD build --keep-empty-dirs --no-resave-data arrayMvout StartedAt: 2024-10-16 19:27:37 -0400 (Wed, 16 Oct 2024) EndedAt: 2024-10-16 19:28:56 -0400 (Wed, 16 Oct 2024) EllapsedTime: 79.6 seconds RetCode: 0 Status: OK PackageFile: arrayMvout_1.62.0.tar.gz PackageFileSize: 692.9 KiB