Package: aroma.light Version: 3.34.0 Command: E:\biocbuild\bbs-3.19-bioc\R\bin\R.exe CMD INSTALL aroma.light StartedAt: 2024-10-16 16:04:12 -0400 (Wed, 16 Oct 2024) EndedAt: 2024-10-16 16:04:54 -0400 (Wed, 16 Oct 2024) EllapsedTime: 42.6 seconds RetCode: 0 Status: OK