Package: aroma.light Version: 3.34.0 Command: rm -rf aroma.light.buildbin-libdir && mkdir aroma.light.buildbin-libdir && E:\biocbuild\bbs-3.19-bioc\R\bin\R.exe CMD INSTALL --build --library=aroma.light.buildbin-libdir aroma.light_3.34.0.tar.gz StartedAt: 2024-10-17 07:20:29 -0400 (Thu, 17 Oct 2024) EndedAt: 2024-10-17 07:21:02 -0400 (Thu, 17 Oct 2024) EllapsedTime: 33.0 seconds RetCode: 0 Status: OK PackageFile: aroma.light_3.34.0.zip PackageFileSize: 613.7 KiB