Package: aroma.light Version: 3.34.0 Command: F:\biocbuild\bbs-3.19-bioc\R\bin\R.exe CMD INSTALL aroma.light StartedAt: 2024-06-26 15:43:54 -0400 (Wed, 26 Jun 2024) EndedAt: 2024-06-26 15:44:16 -0400 (Wed, 26 Jun 2024) EllapsedTime: 22.3 seconds RetCode: 0 Status: OK