Package: aroma.light Version: 3.34.0 Command: rm -rf aroma.light.buildbin-libdir && mkdir aroma.light.buildbin-libdir && F:\biocbuild\bbs-3.19-bioc\R\bin\R.exe CMD INSTALL --build --library=aroma.light.buildbin-libdir aroma.light_3.34.0.tar.gz StartedAt: 2024-06-27 07:50:06 -0400 (Thu, 27 Jun 2024) EndedAt: 2024-06-27 07:50:21 -0400 (Thu, 27 Jun 2024) EllapsedTime: 14.7 seconds RetCode: 0 Status: OK PackageFile: aroma.light_3.34.0.zip PackageFileSize: 614.1 KiB