Package: aroma.light Version: 3.34.0 Command: /home/biocbuild/bbs-3.19-bioc/R/bin/R CMD check --install=check:aroma.light.install-out.txt --library=/home/biocbuild/bbs-3.19-bioc/R/site-library --timings aroma.light_3.34.0.tar.gz StartedAt: 2024-10-16 21:39:31 -0400 (Wed, 16 Oct 2024) EndedAt: 2024-10-16 21:40:37 -0400 (Wed, 16 Oct 2024) EllapsedTime: 66.2 seconds RetCode: 0 Status: OK CheckDir: aroma.light.Rcheck Warnings: 0