Package: aroma.light Version: 3.34.0 Command: /home/biocbuild/bbs-3.19-bioc/R/bin/R CMD build --keep-empty-dirs --no-resave-data aroma.light StartedAt: 2024-10-16 16:55:47 -0400 (Wed, 16 Oct 2024) EndedAt: 2024-10-16 16:55:48 -0400 (Wed, 16 Oct 2024) EllapsedTime: 1.0 seconds RetCode: 0 Status: OK PackageFile: aroma.light_3.34.0.tar.gz PackageFileSize: 379.3 KiB