Package: aroma.light Version: 3.34.0 Command: /Library/Frameworks/R.framework/Resources/bin/R CMD INSTALL aroma.light StartedAt: 2024-10-16 15:10:37 -0400 (Wed, 16 Oct 2024) EndedAt: 2024-10-16 15:10:58 -0400 (Wed, 16 Oct 2024) EllapsedTime: 20.7 seconds RetCode: 0 Status: OK