Package: aroma.light Version: 3.34.0 Command: /Library/Frameworks/R.framework/Resources/bin/R CMD check --install=check:aroma.light.install-out.txt --library=/Library/Frameworks/R.framework/Resources/library --no-vignettes --timings aroma.light_3.34.0.tar.gz StartedAt: 2024-10-17 01:07:09 -0400 (Thu, 17 Oct 2024) EndedAt: 2024-10-17 01:09:57 -0400 (Thu, 17 Oct 2024) EllapsedTime: 167.5 seconds RetCode: 0 Status: OK CheckDir: aroma.light.Rcheck Warnings: 0