Package: aroma.light Version: 3.34.0 Command: /Library/Frameworks/R.framework/Resources/bin/R CMD build --keep-empty-dirs --no-resave-data aroma.light StartedAt: 2024-10-16 17:05:01 -0400 (Wed, 16 Oct 2024) EndedAt: 2024-10-16 17:05:05 -0400 (Wed, 16 Oct 2024) EllapsedTime: 3.4 seconds RetCode: 0 Status: OK PackageFile: aroma.light_3.34.0.tar.gz PackageFileSize: 379.3 KiB