Package: aroma.light Version: 3.34.0 Command: rm -rf aroma.light.buildbin-libdir && mkdir aroma.light.buildbin-libdir && /Users/biocbuild/BBS/utils/build-universal.sh aroma.light_3.34.0.tar.gz /Library/Frameworks/R.framework/Resources/bin/R aroma.light.buildbin-libdir StartedAt: 2024-06-10 00:06:46 -0400 (Mon, 10 Jun 2024) EndedAt: 2024-06-10 00:06:54 -0400 (Mon, 10 Jun 2024) EllapsedTime: 8.1 seconds RetCode: 0 Status: OK PackageFile: aroma.light_3.34.0.tgz PackageFileSize: 597.7 KiB