Package: aroma.light Version: 3.34.0 Command: /home/biocbuild/R/R-beta-2024-04-15_r86425/bin/R CMD build --keep-empty-dirs --no-resave-data aroma.light StartedAt: 2024-05-08 22:19:55 -0000 (Wed, 08 May 2024) EndedAt: 2024-05-08 22:19:56 -0000 (Wed, 08 May 2024) EllapsedTime: 1.0 seconds RetCode: 0 Status: OK PackageFile: aroma.light_3.34.0.tar.gz PackageFileSize: 379.3 KiB