Package: aroma.light Version: 3.34.0 Command: rm -rf aroma.light.buildbin-libdir && mkdir aroma.light.buildbin-libdir && /Users/biocbuild/BBS/utils/build-universal.sh aroma.light_3.34.0.tar.gz /Library/Frameworks/R.framework/Resources/bin/R aroma.light.buildbin-libdir StartedAt: 2024-06-11 10:08:21 -0400 (Tue, 11 Jun 2024) EndedAt: 2024-06-11 10:08:33 -0400 (Tue, 11 Jun 2024) EllapsedTime: 11.3 seconds RetCode: 0 Status: OK PackageFile: aroma.light_3.34.0.tgz PackageFileSize: 597.8 KiB