Package: aroma.light Version: 3.34.0 Maintainer: Henrik Bengtsson MaintainerEmail: henrikb at braju.com git_url: https://git.bioconductor.org/packages/aroma.light git_branch: RELEASE_3_19 git_last_commit: 8ae145c git_last_commit_date: 2024-04-30 10:15:42 -0400 (Tue, 30 Apr 2024)