Package: appreci8R Version: 1.22.0 Command: E:\biocbuild\bbs-3.19-bioc\R\bin\R.exe CMD INSTALL appreci8R StartedAt: 2024-10-16 17:17:25 -0400 (Wed, 16 Oct 2024) EndedAt: 2024-10-16 17:19:14 -0400 (Wed, 16 Oct 2024) EllapsedTime: 108.7 seconds RetCode: 0 Status: OK