Package: appreci8R Version: 1.22.0 Command: E:\biocbuild\bbs-3.19-bioc\R\bin\R.exe CMD check --no-multiarch --install=check:appreci8R.install-out.txt --library=E:\biocbuild\bbs-3.19-bioc\R\library --no-vignettes --timings appreci8R_1.22.0.tar.gz StartedAt: 2024-10-16 22:51:52 -0400 (Wed, 16 Oct 2024) EndedAt: 2024-10-16 22:58:45 -0400 (Wed, 16 Oct 2024) EllapsedTime: 412.6 seconds RetCode: 0 Status: OK CheckDir: appreci8R.Rcheck Warnings: 0