Package: appreci8R Version: 1.22.0 Command: chmod a+r appreci8R -R && E:\biocbuild\bbs-3.19-bioc\R\bin\R.exe CMD build --keep-empty-dirs --no-resave-data appreci8R StartedAt: 2024-10-16 17:34:36 -0400 (Wed, 16 Oct 2024) EndedAt: 2024-10-16 17:38:34 -0400 (Wed, 16 Oct 2024) EllapsedTime: 238.2 seconds RetCode: 0 Status: OK PackageFile: appreci8R_1.22.0.tar.gz PackageFileSize: 893.1 KiB