Package: appreci8R Version: 1.22.0 Command: rm -rf appreci8R.buildbin-libdir && mkdir appreci8R.buildbin-libdir && E:\biocbuild\bbs-3.19-bioc\R\bin\R.exe CMD INSTALL --build --library=appreci8R.buildbin-libdir appreci8R_1.22.0.tar.gz StartedAt: 2024-10-17 07:20:26 -0400 (Thu, 17 Oct 2024) EndedAt: 2024-10-17 07:22:02 -0400 (Thu, 17 Oct 2024) EllapsedTime: 96.7 seconds RetCode: 0 Status: OK PackageFile: appreci8R_1.22.0.zip PackageFileSize: 1.333 MiB