Package: appreci8R Version: 1.22.0 Command: /Library/Frameworks/R.framework/Resources/bin/R CMD build --keep-empty-dirs --no-resave-data appreci8R StartedAt: 2024-10-16 17:04:39 -0400 (Wed, 16 Oct 2024) EndedAt: 2024-10-16 17:11:09 -0400 (Wed, 16 Oct 2024) EllapsedTime: 390.6 seconds RetCode: 0 Status: OK PackageFile: appreci8R_1.22.0.tar.gz PackageFileSize: 1013 KiB