Package: appreci8R Version: 1.22.0 Command: /Library/Frameworks/R.framework/Resources/bin/R CMD check --install=check:appreci8R.install-out.txt --library=/Library/Frameworks/R.framework/Resources/library --no-vignettes --timings appreci8R_1.22.0.tar.gz StartedAt: 2024-06-10 07:25:43 -0400 (Mon, 10 Jun 2024) EndedAt: 2024-06-10 07:34:54 -0400 (Mon, 10 Jun 2024) EllapsedTime: 551.1 seconds RetCode: 0 Status: OK CheckDir: appreci8R.Rcheck Warnings: 0