Package: appreci8R Version: 1.22.0 Command: rm -rf appreci8R.buildbin-libdir && mkdir appreci8R.buildbin-libdir && /Users/biocbuild/BBS/utils/build-universal.sh appreci8R_1.22.0.tar.gz /Library/Frameworks/R.framework/Resources/bin/R appreci8R.buildbin-libdir StartedAt: 2024-06-11 10:08:21 -0400 (Tue, 11 Jun 2024) EndedAt: 2024-06-11 10:10:56 -0400 (Tue, 11 Jun 2024) EllapsedTime: 154.7 seconds RetCode: 0 Status: OK PackageFile: appreci8R_1.22.0.tgz PackageFileSize: 1.457 MiB