Package: appreci8R Version: 1.22.0 Command: /Library/Frameworks/R.framework/Resources/bin/R CMD INSTALL appreci8R StartedAt: 2024-10-16 18:45:32 -0400 (Wed, 16 Oct 2024) EndedAt: 2024-10-16 18:47:12 -0400 (Wed, 16 Oct 2024) EllapsedTime: 100.4 seconds RetCode: 0 Status: OK