Package: appreci8R Version: 1.22.0 Command: rm -rf appreci8R.buildbin-libdir && mkdir appreci8R.buildbin-libdir && /Users/biocbuild/BBS/utils/build-universal.sh appreci8R_1.22.0.tar.gz /Library/Frameworks/R.framework/Resources/bin/R appreci8R.buildbin-libdir StartedAt: 2024-10-18 17:18:03 -0400 (Fri, 18 Oct 2024) EndedAt: 2024-10-18 17:20:01 -0400 (Fri, 18 Oct 2024) EllapsedTime: 118.4 seconds RetCode: 0 Status: OK PackageFile: appreci8R_1.22.0.tgz PackageFileSize: 1.458 MiB