Package: apeglm Version: 1.26.1 Command: chmod a+r apeglm -R && E:\biocbuild\bbs-3.19-bioc\R\bin\R.exe CMD build --keep-empty-dirs --no-resave-data apeglm StartedAt: 2024-10-16 17:34:25 -0400 (Wed, 16 Oct 2024) EndedAt: 2024-10-16 17:36:32 -0400 (Wed, 16 Oct 2024) EllapsedTime: 127.0 seconds RetCode: 0 Status: OK PackageFile: apeglm_1.26.1.tar.gz PackageFileSize: 447.1 KiB