Package: apeglm Version: 1.26.1 Command: chmod a+r apeglm -R && F:\biocbuild\bbs-3.19-bioc\R\bin\R.exe CMD build --keep-empty-dirs --no-resave-data apeglm StartedAt: 2024-06-26 17:06:01 -0400 (Wed, 26 Jun 2024) EndedAt: 2024-06-26 17:07:58 -0400 (Wed, 26 Jun 2024) EllapsedTime: 116.9 seconds RetCode: 0 Status: OK PackageFile: apeglm_1.26.1.tar.gz PackageFileSize: 447.1 KiB