Package: apeglm Version: 1.26.1 Command: /home/biocbuild/bbs-3.19-bioc/R/bin/R CMD INSTALL apeglm StartedAt: 2024-10-16 16:11:20 -0400 (Wed, 16 Oct 2024) EndedAt: 2024-10-16 16:12:16 -0400 (Wed, 16 Oct 2024) EllapsedTime: 55.8 seconds RetCode: 0 Status: OK