Package: apeglm Version: 1.26.1 Command: /home/biocbuild/bbs-3.19-bioc/R/bin/R CMD check --install=check:apeglm.install-out.txt --library=/home/biocbuild/bbs-3.19-bioc/R/site-library --timings apeglm_1.26.1.tar.gz StartedAt: 2024-10-16 21:39:17 -0400 (Wed, 16 Oct 2024) EndedAt: 2024-10-16 21:42:51 -0400 (Wed, 16 Oct 2024) EllapsedTime: 214.5 seconds RetCode: 0 Status: OK CheckDir: apeglm.Rcheck Warnings: 0