Package: apeglm Version: 1.26.0 Command: rm -rf apeglm.buildbin-libdir && mkdir apeglm.buildbin-libdir && /Users/biocbuild/BBS/utils/build-universal.sh apeglm_1.26.0.tar.gz /Library/Frameworks/R.framework/Resources/bin/R apeglm.buildbin-libdir StartedAt: 2024-06-10 00:06:43 -0400 (Mon, 10 Jun 2024) EndedAt: 2024-06-10 00:07:52 -0400 (Mon, 10 Jun 2024) EllapsedTime: 69.1 seconds RetCode: 0 Status: OK PackageFile: apeglm_1.26.0.tgz PackageFileSize: 1.399 MiB