Package: apeglm Version: 1.26.0 Command: rm -rf apeglm.buildbin-libdir && mkdir apeglm.buildbin-libdir && /Users/biocbuild/BBS/utils/build-universal.sh apeglm_1.26.0.tar.gz /Library/Frameworks/R.framework/Resources/bin/R apeglm.buildbin-libdir StartedAt: 2024-06-11 10:08:17 -0400 (Tue, 11 Jun 2024) EndedAt: 2024-06-11 10:09:59 -0400 (Tue, 11 Jun 2024) EllapsedTime: 102.3 seconds RetCode: 0 Status: OK PackageFile: apeglm_1.26.0.tgz PackageFileSize: 1.388 MiB