Package: apeglm Version: 1.26.1 Command: /Library/Frameworks/R.framework/Resources/bin/R CMD INSTALL apeglm StartedAt: 2024-10-16 16:20:43 -0400 (Wed, 16 Oct 2024) EndedAt: 2024-10-16 16:21:38 -0400 (Wed, 16 Oct 2024) EllapsedTime: 55.0 seconds RetCode: 0 Status: OK