Package: apeglm Version: 1.26.1 Command: /Library/Frameworks/R.framework/Resources/bin/R CMD build --keep-empty-dirs --no-resave-data apeglm StartedAt: 2024-10-16 19:25:43 -0400 (Wed, 16 Oct 2024) EndedAt: 2024-10-16 19:27:28 -0400 (Wed, 16 Oct 2024) EllapsedTime: 104.9 seconds RetCode: 0 Status: OK PackageFile: apeglm_1.26.1.tar.gz PackageFileSize: 1.263 MiB