Package: apComplex Version: 2.70.0 Command: E:\biocbuild\bbs-3.19-bioc\R\bin\R.exe CMD check --no-multiarch --install=check:apComplex.install-out.txt --library=E:\biocbuild\bbs-3.19-bioc\R\library --no-vignettes --timings apComplex_2.70.0.tar.gz StartedAt: 2024-10-16 22:51:26 -0400 (Wed, 16 Oct 2024) EndedAt: 2024-10-16 22:53:39 -0400 (Wed, 16 Oct 2024) EllapsedTime: 132.5 seconds RetCode: 0 Status: OK CheckDir: apComplex.Rcheck Warnings: 0