Package: apComplex Version: 2.70.0 Command: rm -rf apComplex.buildbin-libdir && mkdir apComplex.buildbin-libdir && E:\biocbuild\bbs-3.19-bioc\R\bin\R.exe CMD INSTALL --build --library=apComplex.buildbin-libdir apComplex_2.70.0.tar.gz StartedAt: 2024-10-17 07:20:18 -0400 (Thu, 17 Oct 2024) EndedAt: 2024-10-17 07:20:43 -0400 (Thu, 17 Oct 2024) EllapsedTime: 25.1 seconds RetCode: 0 Status: OK PackageFile: apComplex_2.70.0.zip PackageFileSize: 692.3 KiB