Package: apComplex Version: 2.70.0 Command: /Library/Frameworks/R.framework/Resources/bin/R CMD INSTALL apComplex StartedAt: 2024-10-16 15:36:49 -0400 (Wed, 16 Oct 2024) EndedAt: 2024-10-16 15:37:26 -0400 (Wed, 16 Oct 2024) EllapsedTime: 37.1 seconds RetCode: 0 Status: OK