Package: apComplex Version: 2.70.0 Command: /Library/Frameworks/R.framework/Resources/bin/R CMD check --install=check:apComplex.install-out.txt --library=/Library/Frameworks/R.framework/Resources/library --no-vignettes --timings apComplex_2.70.0.tar.gz StartedAt: 2024-06-09 18:45:38 -0400 (Sun, 09 Jun 2024) EndedAt: 2024-06-09 18:47:38 -0400 (Sun, 09 Jun 2024) EllapsedTime: 120.7 seconds RetCode: 0 Status: OK CheckDir: apComplex.Rcheck Warnings: 0