Package: apComplex Version: 2.70.0 Command: /Library/Frameworks/R.framework/Resources/bin/R CMD build --keep-empty-dirs --no-resave-data apComplex StartedAt: 2024-10-16 19:25:37 -0400 (Wed, 16 Oct 2024) EndedAt: 2024-10-16 19:26:07 -0400 (Wed, 16 Oct 2024) EllapsedTime: 29.6 seconds RetCode: 0 Status: OK PackageFile: apComplex_2.70.0.tar.gz PackageFileSize: 627.2 KiB