Package: apComplex Version: 2.70.0 Command: rm -rf apComplex.buildbin-libdir && mkdir apComplex.buildbin-libdir && /Users/biocbuild/BBS/utils/build-universal.sh apComplex_2.70.0.tar.gz /Library/Frameworks/R.framework/Resources/bin/R apComplex.buildbin-libdir StartedAt: 2024-10-18 17:17:40 -0400 (Fri, 18 Oct 2024) EndedAt: 2024-10-18 17:18:03 -0400 (Fri, 18 Oct 2024) EllapsedTime: 22.6 seconds RetCode: 0 Status: OK PackageFile: apComplex_2.70.0.tgz PackageFileSize: 685.3 KiB