Package: antiProfiles Version: 1.44.0 Command: chmod a+r antiProfiles -R && E:\biocbuild\bbs-3.19-bioc\R\bin\R.exe CMD build --keep-empty-dirs --no-resave-data antiProfiles StartedAt: 2024-10-16 17:33:49 -0400 (Wed, 16 Oct 2024) EndedAt: 2024-10-16 17:34:08 -0400 (Wed, 16 Oct 2024) EllapsedTime: 18.7 seconds RetCode: 0 Status: OK PackageFile: antiProfiles_1.44.0.tar.gz PackageFileSize: 110.2 KiB