Package: antiProfiles Version: 1.44.0 Command: rm -rf antiProfiles.buildbin-libdir && mkdir antiProfiles.buildbin-libdir && E:\biocbuild\bbs-3.19-bioc\R\bin\R.exe CMD INSTALL --build --library=antiProfiles.buildbin-libdir antiProfiles_1.44.0.tar.gz StartedAt: 2024-10-17 07:19:58 -0400 (Thu, 17 Oct 2024) EndedAt: 2024-10-17 07:20:15 -0400 (Thu, 17 Oct 2024) EllapsedTime: 17.6 seconds RetCode: 0 Status: OK PackageFile: antiProfiles_1.44.0.zip PackageFileSize: 270.8 KiB