Package: antiProfiles Version: 1.44.0 Command: /Library/Frameworks/R.framework/Resources/bin/R CMD build --keep-empty-dirs --no-resave-data antiProfiles StartedAt: 2024-10-16 17:03:53 -0400 (Wed, 16 Oct 2024) EndedAt: 2024-10-16 17:04:15 -0400 (Wed, 16 Oct 2024) EllapsedTime: 21.5 seconds RetCode: 0 Status: OK PackageFile: antiProfiles_1.44.0.tar.gz PackageFileSize: 110.4 KiB